BEGIN:VCALENDAR
VERSION:2.0
PRODID:spatie/icalendar-generator
DESCRIPTION:Events from Tourond Creek Discovery Centre
X-WR-CALDESC:Events from Tourond Creek Discovery Centre
REFRESH-INTERVAL;VALUE=DURATION:PT1440M
X-PUBLISHED-TTL:PT1440M
BEGIN:VTIMEZONE
TZID:America/Winnipeg
BEGIN:STANDARD
DTSTART:20161106T020000Z
TZOFFSETFROM:-0500
TZOFFSETTO:-0600
END:STANDARD
BEGIN:DAYLIGHT
DTSTART:20170312T020000Z
TZOFFSETFROM:-0600
TZOFFSETTO:-0500
END:DAYLIGHT
BEGIN:STANDARD
DTSTART:20171105T020000Z
TZOFFSETFROM:-0500
TZOFFSETTO:-0600
END:STANDARD
END:VTIMEZONE
BEGIN:VTIMEZONE
TZID:UTC
BEGIN:STANDARD
DTSTART:20250724T083842Z
TZOFFSETFROM:+0000
TZOFFSETTO:+0000
END:STANDARD
END:VTIMEZONE
BEGIN:VEVENT
UID:69-55
DTSTAMP:20260420T083842Z
SUMMARY:Mitchell Middle School
LOCATION:
ORGANIZER;CN=Joey Pankiw:MAILTO:info@srrcd.ca
DTSTART;TZID=America/Winnipeg:20170519T090000
DTEND;TZID=America/Winnipeg:20170519T110000
X-ALT-DESC;FMTTYPE=TEXT/HTML:Darren Martens
CATEGORIES:General
URL;VALUE=URI:https://tourondcreekdiscovery.ca/mc-events/mitchell-middle-sc
 hool-3/
METHOD:PUBLISH
END:VEVENT
END:VCALENDAR