BEGIN:VCALENDAR
VERSION:2.0
PRODID:spatie/icalendar-generator
DESCRIPTION:Events from Tourond Creek Discovery Centre
X-WR-CALDESC:Events from Tourond Creek Discovery Centre
REFRESH-INTERVAL;VALUE=DURATION:PT1440M
X-PUBLISHED-TTL:PT1440M
BEGIN:VTIMEZONE
TZID:America/Winnipeg
BEGIN:DAYLIGHT
DTSTART:20180311T020000Z
TZOFFSETFROM:-0600
TZOFFSETTO:-0500
END:DAYLIGHT
BEGIN:STANDARD
DTSTART:20181104T020000Z
TZOFFSETFROM:-0500
TZOFFSETTO:-0600
END:STANDARD
BEGIN:DAYLIGHT
DTSTART:20190310T020000Z
TZOFFSETFROM:-0600
TZOFFSETTO:-0500
END:DAYLIGHT
END:VTIMEZONE
BEGIN:VTIMEZONE
TZID:UTC
BEGIN:STANDARD
DTSTART:20250725T103604Z
TZOFFSETFROM:+0000
TZOFFSETTO:+0000
END:STANDARD
END:VTIMEZONE
BEGIN:VEVENT
UID:123-83
DTSTAMP:20260421T103604Z
SUMMARY:Woodlawn School Grade 4 Class
LOCATION:
ORGANIZER;CN=Joey Pankiw:MAILTO:info@srrcd.ca
DTSTART;TZID=America/Winnipeg:20180927T090000
DTEND;TZID=America/Winnipeg:20180927T100000
X-ALT-DESC;FMTTYPE=TEXT/HTML:Lisa Martens (Approx 50 Students)
CATEGORIES:General
URL;VALUE=URI:https://tourondcreekdiscovery.ca/calendar/?mc_id=123&#038;vca
 l=123
METHOD:PUBLISH
END:VEVENT
END:VCALENDAR